Package: BgeeCall Version: 1.22.0 Command: /home/biocbuild/R/R/bin/R CMD build --keep-empty-dirs --no-resave-data BgeeCall StartedAt: 2025-01-30 21:52:53 -0000 (Thu, 30 Jan 2025) EndedAt: 2025-01-30 21:55:01 -0000 (Thu, 30 Jan 2025) EllapsedTime: 128.0 seconds RetCode: 0 Status: OK PackageFile: BgeeCall_1.22.0.tar.gz PackageFileSize: 5.665 MiB