Package: BgeeCall Version: 1.22.0 Command: F:\biocbuild\bbs-3.20-bioc\R\bin\R.exe CMD INSTALL BgeeCall StartedAt: 2025-01-27 16:16:21 -0500 (Mon, 27 Jan 2025) EndedAt: 2025-01-27 16:17:23 -0500 (Mon, 27 Jan 2025) EllapsedTime: 62.3 seconds RetCode: 0 Status: OK