Package: BgeeCall Version: 1.22.0 Command: rm -rf BgeeCall.buildbin-libdir && mkdir BgeeCall.buildbin-libdir && F:\biocbuild\bbs-3.20-bioc\R\bin\R.exe CMD INSTALL --build --library=BgeeCall.buildbin-libdir BgeeCall_1.22.0.tar.gz StartedAt: 2025-04-01 07:44:18 -0400 (Tue, 01 Apr 2025) EndedAt: 2025-04-01 07:46:00 -0400 (Tue, 01 Apr 2025) EllapsedTime: 101.7 seconds RetCode: 0 Status: OK PackageFile: BgeeCall_1.22.0.zip PackageFileSize: 5.936 MiB