Package: BgeeCall Version: 1.22.0 Command: /home/biocbuild/bbs-3.20-bioc/R/bin/R CMD build --keep-empty-dirs --no-resave-data --md5 BgeeCall StartedAt: 2025-02-10 16:22:01 -0500 (Mon, 10 Feb 2025) EndedAt: 2025-02-10 16:23:24 -0500 (Mon, 10 Feb 2025) EllapsedTime: 83.0 seconds RetCode: 0 Status: OK PackageFile: BgeeCall_1.22.0.tar.gz PackageFileSize: 5.666 MiB