Package: BgeeCall Version: 1.22.0 Command: /Library/Frameworks/R.framework/Resources/bin/R CMD INSTALL BgeeCall StartedAt: 2025-03-31 15:47:54 -0400 (Mon, 31 Mar 2025) EndedAt: 2025-03-31 15:49:14 -0400 (Mon, 31 Mar 2025) EllapsedTime: 80.4 seconds RetCode: 0 Status: OK