Package: BeadDataPackR Version: 1.58.0 Command: F:\biocbuild\bbs-3.20-bioc\R\bin\R.exe CMD INSTALL BeadDataPackR StartedAt: 2025-03-31 15:21:27 -0400 (Mon, 31 Mar 2025) EndedAt: 2025-03-31 15:21:39 -0400 (Mon, 31 Mar 2025) EllapsedTime: 11.9 seconds RetCode: 0 Status: OK