Package: BeadDataPackR Version: 1.58.0 Command: /Library/Frameworks/R.framework/Resources/bin/R CMD check --install=check:BeadDataPackR.install-out.txt --library=/Library/Frameworks/R.framework/Resources/library --no-vignettes --timings BeadDataPackR_1.58.0.tar.gz StartedAt: 2025-03-31 23:40:44 -0400 (Mon, 31 Mar 2025) EndedAt: 2025-03-31 23:41:24 -0400 (Mon, 31 Mar 2025) EllapsedTime: 39.6 seconds RetCode: 0 Status: OK CheckDir: BeadDataPackR.Rcheck Warnings: 0