Package: BeadDataPackR Version: 1.58.0 Command: /Library/Frameworks/R.framework/Resources/bin/R CMD INSTALL BeadDataPackR StartedAt: 2025-01-27 15:04:02 -0500 (Mon, 27 Jan 2025) EndedAt: 2025-01-27 15:04:04 -0500 (Mon, 27 Jan 2025) EllapsedTime: 2.0 seconds RetCode: 0 Status: OK