Package: BeadDataPackR Version: 1.58.0 Command: /Library/Frameworks/R.framework/Resources/bin/R CMD build --keep-empty-dirs --no-resave-data BeadDataPackR StartedAt: 2025-03-31 19:14:38 -0400 (Mon, 31 Mar 2025) EndedAt: 2025-03-31 19:14:51 -0400 (Mon, 31 Mar 2025) EllapsedTime: 13.2 seconds RetCode: 0 Status: OK PackageFile: BeadDataPackR_1.58.0.tar.gz PackageFileSize: 234.8 KiB