Package: BayesSpace Version: 1.16.0 Command: F:\biocbuild\bbs-3.20-bioc\R\bin\R.exe CMD INSTALL BayesSpace StartedAt: 2025-01-27 17:05:03 -0500 (Mon, 27 Jan 2025) EndedAt: 2025-01-27 17:06:53 -0500 (Mon, 27 Jan 2025) EllapsedTime: 109.7 seconds RetCode: 0 Status: OK