Package: BayesSpace Version: 1.16.0 Command: /Library/Frameworks/R.framework/Resources/bin/R CMD INSTALL BayesSpace StartedAt: 2025-01-27 18:22:48 -0500 (Mon, 27 Jan 2025) EndedAt: 2025-01-27 18:24:02 -0500 (Mon, 27 Jan 2025) EllapsedTime: 73.8 seconds RetCode: 0 Status: OK