Package: BatchQC Version: 2.2.0 Command: /home/biocbuild/bbs-3.20-bioc/R/bin/R CMD check --install=check:BatchQC.install-out.txt --library=/home/biocbuild/bbs-3.20-bioc/R/site-library --timings BatchQC_2.2.0.tar.gz StartedAt: 2025-03-31 20:02:48 -0400 (Mon, 31 Mar 2025) EndedAt: 2025-03-31 20:09:30 -0400 (Mon, 31 Mar 2025) EllapsedTime: 401.4 seconds RetCode: 0 Status: OK CheckDir: BatchQC.Rcheck Warnings: 0