Package: BatchQC Version: 2.2.0 Command: /Library/Frameworks/R.framework/Resources/bin/R CMD check --install=check:BatchQC.install-out.txt --library=/Library/Frameworks/R.framework/Resources/library --no-vignettes --timings BatchQC_2.2.0.tar.gz StartedAt: 2025-03-31 23:37:15 -0400 (Mon, 31 Mar 2025) EndedAt: 2025-03-31 23:50:37 -0400 (Mon, 31 Mar 2025) EllapsedTime: 802.2 seconds RetCode: 0 Status: OK CheckDir: BatchQC.Rcheck Warnings: 0