Package: BatchQC Version: 2.2.0 Command: /Library/Frameworks/R.framework/Resources/bin/R CMD INSTALL BatchQC StartedAt: 2024-11-19 15:42:25 -0500 (Tue, 19 Nov 2024) EndedAt: 2024-11-19 15:43:13 -0500 (Tue, 19 Nov 2024) EllapsedTime: 48.7 seconds RetCode: 0 Status: OK