Package: BatchQC Version: 2.2.0 Command: /Library/Frameworks/R.framework/Resources/bin/R CMD check --install=check:BatchQC.install-out.txt --library=/Library/Frameworks/R.framework/Resources/library --no-vignettes --timings BatchQC_2.2.0.tar.gz StartedAt: 2024-11-19 19:41:52 -0500 (Tue, 19 Nov 2024) EndedAt: 2024-11-19 19:50:45 -0500 (Tue, 19 Nov 2024) EllapsedTime: 532.8 seconds RetCode: 0 Status: OK CheckDir: BatchQC.Rcheck Warnings: 0