Package: BatchQC Version: 2.2.0 Command: /Library/Frameworks/R.framework/Resources/bin/R CMD INSTALL BatchQC StartedAt: 2025-03-31 17:47:01 -0400 (Mon, 31 Mar 2025) EndedAt: 2025-03-31 17:47:41 -0400 (Mon, 31 Mar 2025) EllapsedTime: 40.2 seconds RetCode: 0 Status: OK