Package: BatchQC Version: 2.2.0 Command: /Library/Frameworks/R.framework/Resources/bin/R CMD build --keep-empty-dirs --no-resave-data BatchQC StartedAt: 2025-03-31 19:10:05 -0400 (Mon, 31 Mar 2025) EndedAt: 2025-03-31 19:11:14 -0400 (Mon, 31 Mar 2025) EllapsedTime: 68.9 seconds RetCode: 0 Status: OK PackageFile: BatchQC_2.2.0.tar.gz PackageFileSize: 3.589 MiB