Package: BasicSTARRseq Version: 1.34.0 Command: /home/biocbuild/R/R/bin/R CMD check --install=check:BasicSTARRseq.install-out.txt --library=/home/biocbuild/R/R/site-library --no-vignettes --timings BasicSTARRseq_1.34.0.tar.gz StartedAt: 2025-02-04 04:35:32 -0000 (Tue, 04 Feb 2025) EndedAt: 2025-02-04 04:39:56 -0000 (Tue, 04 Feb 2025) EllapsedTime: 264.5 seconds RetCode: 0 Status: OK CheckDir: BasicSTARRseq.Rcheck Warnings: 0