Package: BasicSTARRseq Version: 1.34.0 Command: /home/biocbuild/bbs-3.20-bioc/R/bin/R CMD INSTALL BasicSTARRseq StartedAt: 2025-03-31 15:22:10 -0400 (Mon, 31 Mar 2025) EndedAt: 2025-03-31 15:22:35 -0400 (Mon, 31 Mar 2025) EllapsedTime: 24.8 seconds RetCode: 0 Status: OK