Package: Basic4Cseq Version: 1.42.0 Command: /home/biocbuild/bbs-3.20-bioc/R/bin/R CMD INSTALL Basic4Cseq StartedAt: 2025-01-27 16:16:32 -0500 (Mon, 27 Jan 2025) EndedAt: 2025-01-27 16:17:12 -0500 (Mon, 27 Jan 2025) EllapsedTime: 40.5 seconds RetCode: 0 Status: OK