Package: Basic4Cseq Version: 1.42.0 Command: /Library/Frameworks/R.framework/Resources/bin/R CMD build --keep-empty-dirs --no-resave-data Basic4Cseq StartedAt: 2025-03-31 19:06:00 -0400 (Mon, 31 Mar 2025) EndedAt: 2025-03-31 19:07:05 -0400 (Mon, 31 Mar 2025) EllapsedTime: 65.2 seconds RetCode: 0 Status: OK PackageFile: Basic4Cseq_1.42.0.tar.gz PackageFileSize: 384.5 KiB