Package: BaseSpaceR Version: 1.50.0 Command: /home/biocbuild/bbs-3.20-bioc/R/bin/R CMD INSTALL BaseSpaceR StartedAt: 2024-11-19 15:20:52 -0500 (Tue, 19 Nov 2024) EndedAt: 2024-11-19 15:20:56 -0500 (Tue, 19 Nov 2024) EllapsedTime: 4.5 seconds RetCode: 0 Status: OK