Package: BaseSpaceR Version: 1.50.0 Command: /home/biocbuild/R/R/bin/R CMD INSTALL BaseSpaceR StartedAt: 2025-02-03 20:24:10 -0000 (Mon, 03 Feb 2025) EndedAt: 2025-02-03 20:24:28 -0000 (Mon, 03 Feb 2025) EllapsedTime: 17.6 seconds RetCode: 0 Status: OK