Package: BaseSpaceR Version: 1.50.0 Command: /home/biocbuild/R/R/bin/R CMD check --install=check:BaseSpaceR.install-out.txt --library=/home/biocbuild/R/R/site-library --no-vignettes --timings BaseSpaceR_1.50.0.tar.gz StartedAt: 2025-01-28 04:45:25 -0000 (Tue, 28 Jan 2025) EndedAt: 2025-01-28 04:46:30 -0000 (Tue, 28 Jan 2025) EllapsedTime: 65.1 seconds RetCode: 0 Status: WARNINGS CheckDir: BaseSpaceR.Rcheck Warnings: 1