Package: BaseSpaceR Version: 1.50.0 Command: /home/biocbuild/R/R/bin/R CMD build --keep-empty-dirs --no-resave-data BaseSpaceR StartedAt: 2025-02-03 21:45:48 -0000 (Mon, 03 Feb 2025) EndedAt: 2025-02-03 21:46:22 -0000 (Mon, 03 Feb 2025) EllapsedTime: 34.0 seconds RetCode: 0 Status: OK PackageFile: BaseSpaceR_1.50.0.tar.gz PackageFileSize: 572.2 KiB