Package: BaseSpaceR Version: 1.50.0 Command: F:\biocbuild\bbs-3.20-bioc\R\bin\R.exe CMD INSTALL BaseSpaceR StartedAt: 2025-03-31 15:24:12 -0400 (Mon, 31 Mar 2025) EndedAt: 2025-03-31 15:25:52 -0400 (Mon, 31 Mar 2025) EllapsedTime: 99.4 seconds RetCode: 0 Status: OK