Package: BaseSpaceR Version: 1.50.0 Command: /Library/Frameworks/R.framework/Resources/bin/R CMD check --install=check:BaseSpaceR.install-out.txt --library=/Library/Frameworks/R.framework/Resources/library --no-vignettes --timings BaseSpaceR_1.50.0.tar.gz StartedAt: 2024-11-19 19:39:37 -0500 (Tue, 19 Nov 2024) EndedAt: 2024-11-19 19:43:57 -0500 (Tue, 19 Nov 2024) EllapsedTime: 260.7 seconds RetCode: 0 Status: WARNINGS CheckDir: BaseSpaceR.Rcheck Warnings: 1