Package: BaseSpaceR Version: 1.50.0 Command: /Library/Frameworks/R.framework/Resources/bin/R CMD build --keep-empty-dirs --no-resave-data BaseSpaceR StartedAt: 2024-11-19 15:59:29 -0500 (Tue, 19 Nov 2024) EndedAt: 2024-11-19 15:59:54 -0500 (Tue, 19 Nov 2024) EllapsedTime: 25.0 seconds RetCode: 0 Status: OK PackageFile: BaseSpaceR_1.50.0.tar.gz PackageFileSize: 581.6 KiB