Package: BaseSpaceR Version: 1.50.0 Command: /Library/Frameworks/R.framework/Resources/bin/R CMD INSTALL BaseSpaceR StartedAt: 2025-03-31 15:10:18 -0400 (Mon, 31 Mar 2025) EndedAt: 2025-03-31 15:10:25 -0400 (Mon, 31 Mar 2025) EllapsedTime: 6.9 seconds RetCode: 0 Status: OK