Package: BadRegionFinder Version: 1.34.0 Command: /home/biocbuild/R/R/bin/R CMD INSTALL BadRegionFinder StartedAt: 2025-02-10 20:36:36 -0000 (Mon, 10 Feb 2025) EndedAt: 2025-02-10 20:37:25 -0000 (Mon, 10 Feb 2025) EllapsedTime: 49.9 seconds RetCode: 0 Status: OK