Package: BadRegionFinder Version: 1.34.0 Command: /home/biocbuild/R/R/bin/R CMD check --install=check:BadRegionFinder.install-out.txt --library=/home/biocbuild/R/R/site-library --no-vignettes --timings BadRegionFinder_1.34.0.tar.gz StartedAt: 2025-02-11 03:51:11 -0000 (Tue, 11 Feb 2025) EndedAt: 2025-02-11 03:56:50 -0000 (Tue, 11 Feb 2025) EllapsedTime: 338.3 seconds RetCode: 0 Status: OK CheckDir: BadRegionFinder.Rcheck Warnings: 0