Package: BadRegionFinder Version: 1.34.0 Command: /home/biocbuild/R/R/bin/R CMD build --keep-empty-dirs --no-resave-data BadRegionFinder StartedAt: 2025-02-03 21:44:32 -0000 (Mon, 03 Feb 2025) EndedAt: 2025-02-03 21:46:11 -0000 (Mon, 03 Feb 2025) EllapsedTime: 99.0 seconds RetCode: 0 Status: OK PackageFile: BadRegionFinder_1.34.0.tar.gz PackageFileSize: 824.7 KiB