Package: BaalChIP Version: 1.32.0 Command: /Library/Frameworks/R.framework/Resources/bin/R CMD check --install=check:BaalChIP.install-out.txt --library=/Library/Frameworks/R.framework/Resources/library --no-vignettes --timings BaalChIP_1.32.0.tar.gz StartedAt: 2025-03-31 23:30:22 -0400 (Mon, 31 Mar 2025) EndedAt: 2025-03-31 23:54:39 -0400 (Mon, 31 Mar 2025) EllapsedTime: 1456.2 seconds RetCode: 0 Status: WARNINGS CheckDir: BaalChIP.Rcheck Warnings: 1