Package: BUSseq Version: 1.12.0 Command: F:\biocbuild\bbs-3.20-bioc\R\bin\R.exe CMD INSTALL BUSseq StartedAt: 2025-03-31 15:59:48 -0400 (Mon, 31 Mar 2025) EndedAt: 2025-03-31 16:00:23 -0400 (Mon, 31 Mar 2025) EllapsedTime: 34.9 seconds RetCode: 0 Status: OK