Package: BUSpaRse Version: 1.20.0 Command: /home/biocbuild/R/R/bin/R CMD build --keep-empty-dirs --no-resave-data BUSpaRse StartedAt: 2025-03-31 22:02:47 -0000 (Mon, 31 Mar 2025) EndedAt: 2025-03-31 22:37:51 -0000 (Mon, 31 Mar 2025) EllapsedTime: 2104.0 seconds RetCode: 1 Status: ERROR PackageFile: None PackageFileSize: NA