Package: BUSpaRse Version: 1.20.0 Command: /Library/Frameworks/R.framework/Resources/bin/R CMD build --keep-empty-dirs --no-resave-data BUSpaRse StartedAt: 2025-03-31 17:24:25 -0400 (Mon, 31 Mar 2025) EndedAt: 2025-03-31 17:30:28 -0400 (Mon, 31 Mar 2025) EllapsedTime: 362.9 seconds RetCode: 1 Status: ERROR PackageFile: None PackageFileSize: NA