Package: BUSpaRse Version: 1.20.0 Command: /Library/Frameworks/R.framework/Resources/bin/R CMD INSTALL BUSpaRse StartedAt: 2025-01-27 16:19:30 -0500 (Mon, 27 Jan 2025) EndedAt: 2025-01-27 16:20:36 -0500 (Mon, 27 Jan 2025) EllapsedTime: 65.2 seconds RetCode: 0 Status: OK