Package: BUSpaRse Version: 1.20.0 Command: rm -rf BUSpaRse.buildbin-libdir && mkdir BUSpaRse.buildbin-libdir && /Users/biocbuild/BBS/utils/build-universal.sh BUSpaRse_1.20.0.tar.gz /Library/Frameworks/R.framework/Resources/bin/R BUSpaRse.buildbin-libdir StartedAt: 2025-02-05 15:04:26 -0500 (Wed, 05 Feb 2025) EndedAt: 2025-02-05 15:05:37 -0500 (Wed, 05 Feb 2025) EllapsedTime: 70.7 seconds RetCode: 0 Status: OK PackageFile: BUSpaRse_1.20.0.tgz PackageFileSize: 835 KiB