Package: BUMHMM Version: 1.30.0 Command: /home/biocbuild/R/R/bin/R CMD INSTALL BUMHMM StartedAt: 2025-01-30 20:47:07 -0000 (Thu, 30 Jan 2025) EndedAt: 2025-01-30 20:47:40 -0000 (Thu, 30 Jan 2025) EllapsedTime: 32.1 seconds RetCode: 0 Status: OK