Package: BUMHMM Version: 1.30.0 Command: chmod a+r BUMHMM -R && F:\biocbuild\bbs-3.20-bioc\R\bin\R.exe CMD build --keep-empty-dirs --no-resave-data BUMHMM StartedAt: 2025-01-27 17:44:13 -0500 (Mon, 27 Jan 2025) EndedAt: 2025-01-27 17:45:13 -0500 (Mon, 27 Jan 2025) EllapsedTime: 60.1 seconds RetCode: 0 Status: OK PackageFile: BUMHMM_1.30.0.tar.gz PackageFileSize: 705.3 KiB