Package: BUMHMM Version: 1.30.0 Command: rm -rf BUMHMM.buildbin-libdir && mkdir BUMHMM.buildbin-libdir && F:\biocbuild\bbs-3.20-bioc\R\bin\R.exe CMD INSTALL --build --library=BUMHMM.buildbin-libdir BUMHMM_1.30.0.tar.gz StartedAt: 2025-01-28 07:47:02 -0500 (Tue, 28 Jan 2025) EndedAt: 2025-01-28 07:47:36 -0500 (Tue, 28 Jan 2025) EllapsedTime: 33.2 seconds RetCode: 0 Status: OK PackageFile: BUMHMM_1.30.0.zip PackageFileSize: 746.6 KiB