Package: BUMHMM Version: 1.30.0 Command: /Library/Frameworks/R.framework/Resources/bin/R CMD build --keep-empty-dirs --no-resave-data BUMHMM StartedAt: 2025-01-30 17:39:06 -0500 (Thu, 30 Jan 2025) EndedAt: 2025-01-30 17:40:45 -0500 (Thu, 30 Jan 2025) EllapsedTime: 98.7 seconds RetCode: 0 Status: OK PackageFile: BUMHMM_1.30.0.tar.gz PackageFileSize: 712.7 KiB