Package: BUMHMM Version: 1.30.0 Command: rm -rf BUMHMM.buildbin-libdir && mkdir BUMHMM.buildbin-libdir && /Users/biocbuild/BBS/utils/build-universal.sh BUMHMM_1.30.0.tar.gz /Library/Frameworks/R.framework/Resources/bin/R BUMHMM.buildbin-libdir StartedAt: 2025-04-02 13:33:55 -0400 (Wed, 02 Apr 2025) EndedAt: 2025-04-02 13:34:27 -0400 (Wed, 02 Apr 2025) EllapsedTime: 32.7 seconds RetCode: 0 Status: OK PackageFile: BUMHMM_1.30.0.tgz PackageFileSize: 750.8 KiB