Package: BSgenomeForge Version: 1.6.0 Command: /home/biocbuild/R/R/bin/R CMD check --install=check:BSgenomeForge.install-out.txt --library=/home/biocbuild/R/R/site-library --no-vignettes --timings BSgenomeForge_1.6.0.tar.gz StartedAt: 2025-01-28 05:23:37 -0000 (Tue, 28 Jan 2025) EndedAt: 2025-01-28 05:30:22 -0000 (Tue, 28 Jan 2025) EllapsedTime: 405.3 seconds RetCode: 0 Status: OK CheckDir: BSgenomeForge.Rcheck Warnings: 0