Package: BSgenomeForge Version: 1.6.0 Command: /home/biocbuild/R/R/bin/R CMD build --keep-empty-dirs --no-resave-data BSgenomeForge StartedAt: 2025-01-27 22:58:13 -0000 (Mon, 27 Jan 2025) EndedAt: 2025-01-27 22:59:53 -0000 (Mon, 27 Jan 2025) EllapsedTime: 100.0 seconds RetCode: 0 Status: OK PackageFile: BSgenomeForge_1.6.0.tar.gz PackageFileSize: 708.5 KiB