Package: BSgenomeForge Version: 1.6.0 Command: rm -rf BSgenomeForge.buildbin-libdir && mkdir BSgenomeForge.buildbin-libdir && F:\biocbuild\bbs-3.20-bioc\R\bin\R.exe CMD INSTALL --build --library=BSgenomeForge.buildbin-libdir BSgenomeForge_1.6.0.tar.gz StartedAt: 2025-01-31 08:17:06 -0500 (Fri, 31 Jan 2025) EndedAt: 2025-01-31 08:18:06 -0500 (Fri, 31 Jan 2025) EllapsedTime: 59.8 seconds RetCode: 0 Status: OK PackageFile: BSgenomeForge_1.6.0.zip PackageFileSize: 682.5 KiB