Package: BSgenomeForge Version: 1.6.0 Command: /Library/Frameworks/R.framework/Resources/bin/R CMD build --keep-empty-dirs --no-resave-data BSgenomeForge StartedAt: 2025-01-27 19:55:56 -0500 (Mon, 27 Jan 2025) EndedAt: 2025-01-27 19:57:07 -0500 (Mon, 27 Jan 2025) EllapsedTime: 70.9 seconds RetCode: 0 Status: OK PackageFile: BSgenomeForge_1.6.0.tar.gz PackageFileSize: 693.7 KiB