Package: BSgenome Version: 1.74.0 Command: rm -rf BSgenome.buildbin-libdir && mkdir BSgenome.buildbin-libdir && F:\biocbuild\bbs-3.20-bioc\R\bin\R.exe CMD INSTALL --build --library=BSgenome.buildbin-libdir BSgenome_1.74.0.tar.gz StartedAt: 2025-04-01 07:48:23 -0400 (Tue, 01 Apr 2025) EndedAt: 2025-04-01 07:50:31 -0400 (Tue, 01 Apr 2025) EllapsedTime: 127.9 seconds RetCode: 0 Status: OK PackageFile: BSgenome_1.74.0.zip PackageFileSize: 6.794 MiB