Package: BSgenome Version: 1.74.0 Command: /home/biocbuild/bbs-3.20-bioc/R/bin/R CMD check --install=check:BSgenome.install-out.txt --library=/home/biocbuild/bbs-3.20-bioc/R/site-library --timings BSgenome_1.74.0.tar.gz StartedAt: 2025-03-31 20:24:20 -0400 (Mon, 31 Mar 2025) EndedAt: 2025-03-31 20:30:48 -0400 (Mon, 31 Mar 2025) EllapsedTime: 388.4 seconds RetCode: 0 Status: WARNINGS CheckDir: BSgenome.Rcheck Warnings: 1