Package: BSgenome Version: 1.74.0 Command: /Library/Frameworks/R.framework/Resources/bin/R CMD check --install=check:BSgenome.install-out.txt --library=/Library/Frameworks/R.framework/Resources/library --no-vignettes --timings BSgenome_1.74.0.tar.gz StartedAt: 2024-11-19 20:08:55 -0500 (Tue, 19 Nov 2024) EndedAt: 2024-11-19 20:17:32 -0500 (Tue, 19 Nov 2024) EllapsedTime: 516.3 seconds RetCode: 0 Status: WARNINGS CheckDir: BSgenome.Rcheck Warnings: 1